BEGIN:VCALENDAR
VERSION:2.0
PRODID:-//Global Faith - ECPv6.15.20//NONSGML v1.0//EN
CALSCALE:GREGORIAN
METHOD:PUBLISH
X-WR-CALNAME:Global Faith
X-ORIGINAL-URL:https://globalfaith.org
X-WR-CALDESC:Events for Global Faith
REFRESH-INTERVAL;VALUE=DURATION:PT1H
X-Robots-Tag:noindex
X-PUBLISHED-TTL:PT1H
BEGIN:VTIMEZONE
TZID:America/North_Dakota/Center
BEGIN:DAYLIGHT
TZOFFSETFROM:-0600
TZOFFSETTO:-0500
TZNAME:CDT
DTSTART:20230312T080000
END:DAYLIGHT
BEGIN:STANDARD
TZOFFSETFROM:-0500
TZOFFSETTO:-0600
TZNAME:CST
DTSTART:20231105T070000
END:STANDARD
BEGIN:DAYLIGHT
TZOFFSETFROM:-0600
TZOFFSETTO:-0500
TZNAME:CDT
DTSTART:20240310T080000
END:DAYLIGHT
BEGIN:STANDARD
TZOFFSETFROM:-0500
TZOFFSETTO:-0600
TZNAME:CST
DTSTART:20241103T070000
END:STANDARD
BEGIN:DAYLIGHT
TZOFFSETFROM:-0600
TZOFFSETTO:-0500
TZNAME:CDT
DTSTART:20250309T080000
END:DAYLIGHT
BEGIN:STANDARD
TZOFFSETFROM:-0500
TZOFFSETTO:-0600
TZNAME:CST
DTSTART:20251102T070000
END:STANDARD
END:VTIMEZONE
BEGIN:VEVENT
DTSTART;TZID=America/North_Dakota/Center:20240222T173000
DTEND;TZID=America/North_Dakota/Center:20240222T190000
DTSTAMP:20260422T094020
CREATED:20240104T223451Z
LAST-MODIFIED:20240104T225050Z
UID:10000033-1708623000-1708628400@globalfaith.org
SUMMARY:February 2024 Monthly Dinner – Omaha\, NE
DESCRIPTION:February 2024 Monthly Dinner in Omaha\, NE\nGet Your Latest News Briefings\n \nDr. Mark Christian provides you with recent happenings in the Middle East and more during Global Faith’s monthly dinner. Join us for dinner and a powerful discussion from 5:30 pm – 7:00 pm. The event with a buffet dinner is $25 and $10 for drinks only. You will pay at the door. \nCLICK TO RSVP
URL:https://globalfaith.org/event/february-2024-monthly-dinner-omaha-ne/
LOCATION:DJ’s Dugout Sports Bar – Miracle Hills\, 777 N 114th St\, Omaha\, NE\, 68154\, United States
CATEGORIES:Monthly News Briefing,Omaha Dinner
ATTACH;FMTTYPE=image/jpeg:https://globalfaith.org/wp-content/uploads/2020/06/DJ_Locations-MiracleHill02sm.jpg
END:VEVENT
END:VCALENDAR